BEGIN:VCALENDAR
VERSION:2.0
PRODID:-//Fortunate Sons Tribute - ECPv6.15.20//NONSGML v1.0//EN
CALSCALE:GREGORIAN
METHOD:PUBLISH
X-WR-CALNAME:Fortunate Sons Tribute
X-ORIGINAL-URL:https://thefortunatesonsband.com
X-WR-CALDESC:Events for Fortunate Sons Tribute
REFRESH-INTERVAL;VALUE=DURATION:PT1H
X-Robots-Tag:noindex
X-PUBLISHED-TTL:PT1H
BEGIN:VTIMEZONE
TZID:America/Los_Angeles
BEGIN:DAYLIGHT
TZOFFSETFROM:-0800
TZOFFSETTO:-0700
TZNAME:PDT
DTSTART:20230312T100000
END:DAYLIGHT
BEGIN:STANDARD
TZOFFSETFROM:-0700
TZOFFSETTO:-0800
TZNAME:PST
DTSTART:20231105T090000
END:STANDARD
BEGIN:DAYLIGHT
TZOFFSETFROM:-0800
TZOFFSETTO:-0700
TZNAME:PDT
DTSTART:20240310T100000
END:DAYLIGHT
BEGIN:STANDARD
TZOFFSETFROM:-0700
TZOFFSETTO:-0800
TZNAME:PST
DTSTART:20241103T090000
END:STANDARD
BEGIN:DAYLIGHT
TZOFFSETFROM:-0800
TZOFFSETTO:-0700
TZNAME:PDT
DTSTART:20250309T100000
END:DAYLIGHT
BEGIN:STANDARD
TZOFFSETFROM:-0700
TZOFFSETTO:-0800
TZNAME:PST
DTSTART:20251102T090000
END:STANDARD
BEGIN:DAYLIGHT
TZOFFSETFROM:-0800
TZOFFSETTO:-0700
TZNAME:PDT
DTSTART:20260308T100000
END:DAYLIGHT
BEGIN:STANDARD
TZOFFSETFROM:-0700
TZOFFSETTO:-0800
TZNAME:PST
DTSTART:20261101T090000
END:STANDARD
END:VTIMEZONE
BEGIN:VTIMEZONE
TZID:America/New_York
BEGIN:DAYLIGHT
TZOFFSETFROM:-0500
TZOFFSETTO:-0400
TZNAME:EDT
DTSTART:20240310T070000
END:DAYLIGHT
BEGIN:STANDARD
TZOFFSETFROM:-0400
TZOFFSETTO:-0500
TZNAME:EST
DTSTART:20241103T060000
END:STANDARD
BEGIN:DAYLIGHT
TZOFFSETFROM:-0500
TZOFFSETTO:-0400
TZNAME:EDT
DTSTART:20250309T070000
END:DAYLIGHT
BEGIN:STANDARD
TZOFFSETFROM:-0400
TZOFFSETTO:-0500
TZNAME:EST
DTSTART:20251102T060000
END:STANDARD
BEGIN:DAYLIGHT
TZOFFSETFROM:-0500
TZOFFSETTO:-0400
TZNAME:EDT
DTSTART:20260308T070000
END:DAYLIGHT
BEGIN:STANDARD
TZOFFSETFROM:-0400
TZOFFSETTO:-0500
TZNAME:EST
DTSTART:20261101T060000
END:STANDARD
END:VTIMEZONE
BEGIN:VEVENT
DTSTART;TZID=America/Los_Angeles:20250606T190000
DTEND;TZID=America/Los_Angeles:20250606T220000
DTSTAMP:20260424T035045
CREATED:20250507T230750Z
LAST-MODIFIED:20250507T230750Z
UID:626-1749236400-1749247200@thefortunatesonsband.com
SUMMARY:Housatonic River Brewery -brewin up a lot of CCR!
DESCRIPTION:the Fortunate Sons band bringing all the great CCR hits and all the hottest ‘B’ sides for our first show in this great Brewery!
URL:https://thefortunatesonsband.com/event/housatonic-river-brewery-brewin-up-a-lot-of-ccr/
END:VEVENT
BEGIN:VEVENT
DTSTART;TZID=America/Los_Angeles:20250531T200000
DTEND;TZID=America/Los_Angeles:20250531T230000
DTSTAMP:20260424T035045
CREATED:20250304T191452Z
LAST-MODIFIED:20250304T191452Z
UID:556-1748721600-1748732400@thefortunatesonsband.com
SUMMARY:The Hungry Tiger - 120 Charter Oak St. Manchester\,CT
DESCRIPTION:the Sons tame the Tiger! \nchooglin away May 31st 8PM start!
URL:https://thefortunatesonsband.com/event/the-hungry-tiger-120-charter-oak-st-manchesterct/
END:VEVENT
BEGIN:VEVENT
DTSTART;TZID=America/Los_Angeles:20250522T123000
DTEND;TZID=America/Los_Angeles:20250522T130000
DTSTAMP:20260424T035045
CREATED:20250206T155502Z
LAST-MODIFIED:20250206T155502Z
UID:505-1747917000-1747918800@thefortunatesonsband.com
SUMMARY:the Fortunate Sons band in Southbury!
DESCRIPTION:Southbury Senior Center present; the Fortunate Sons band CCR Tribute! \n  \nat the Ballantine Park Pavillion
URL:https://thefortunatesonsband.com/event/the-fortunate-sons-band-in-southbury/
END:VEVENT
BEGIN:VEVENT
DTSTART;TZID=America/Los_Angeles:20250515T180000
DTEND;TZID=America/Los_Angeles:20250515T200000
DTSTAMP:20260424T035045
CREATED:20250515T130017Z
LAST-MODIFIED:20250206T155154Z
UID:405-1747332000-1747339200@thefortunatesonsband.com
SUMMARY:Rocky Hill Senior Services - 761 Old Main St. Rocky Hill\, CT
DESCRIPTION:Bringing some Rock & Roll to Rocky Hill!
URL:https://thefortunatesonsband.com/event/rocky-hill-senior-services-761-old-main-st-rocky-hill-ct/
END:VEVENT
BEGIN:VEVENT
DTSTART;TZID=America/Los_Angeles:20250515T180000
DTEND;TZID=America/Los_Angeles:20250515T200000
DTSTAMP:20260424T035045
CREATED:20250206T160035Z
LAST-MODIFIED:20250206T160035Z
UID:508-1747332000-1747339200@thefortunatesonsband.com
SUMMARY:Rocky Hill Senior Services
DESCRIPTION:the Fortunate Sons band in concert! \n  \n761 Old Main Street \nRocky Hill\, CT 06067
URL:https://thefortunatesonsband.com/event/rocky-hill-senior-services/
END:VEVENT
BEGIN:VEVENT
DTSTART;TZID=America/Los_Angeles:20250510T200000
DTEND;TZID=America/Los_Angeles:20250510T230000
DTSTAMP:20260424T035045
CREATED:20250206T161421Z
LAST-MODIFIED:20250206T161421Z
UID:515-1746907200-1746918000@thefortunatesonsband.com
SUMMARY:The Yarde Tavern
DESCRIPTION:Tappin the Tavern \n  \n1658 King St\, Enfield\, CT 06082
URL:https://thefortunatesonsband.com/event/the-yarde-tavern/
END:VEVENT
BEGIN:VEVENT
DTSTART;TZID=America/New_York:20250503T080000
DTEND;TZID=America/New_York:20250503T230000
DTSTAMP:20260424T035045
CREATED:20241211T175633Z
LAST-MODIFIED:20241211T175810Z
UID:450-1746259200-1746313200@thefortunatesonsband.com
SUMMARY:Black Eyed Sally's
DESCRIPTION:The Fortunate Sons present  CCR and the best Jamabalaya around! \n  \nBlack Eyed Sally’s Blues and Bar-B-Que \n  \n350 Asylum St. Hartford\, CT 06103
URL:https://thefortunatesonsband.com/event/the-fortunate-sons-chooglin-at-sallys/
END:VEVENT
BEGIN:VEVENT
DTSTART;TZID=America/Los_Angeles:20250501T180000
DTEND;TZID=America/Los_Angeles:20250501T193000
DTSTAMP:20260424T035045
CREATED:20250207T142625Z
LAST-MODIFIED:20250207T142625Z
UID:524-1746122400-1746127800@thefortunatesonsband.com
SUMMARY:Wallingford Senior Center
DESCRIPTION:238 Washington St.\nWallingford\, CT 06492\nbringing the CCR to Wallingford! \n 
URL:https://thefortunatesonsband.com/event/wallingford-senior-center/
END:VEVENT
BEGIN:VEVENT
DTSTART;TZID=America/Los_Angeles:20250418T063000
DTEND;TZID=America/Los_Angeles:20250418T213000
DTSTAMP:20260424T035045
CREATED:20250207T141307Z
LAST-MODIFIED:20250207T141307Z
UID:519-1744957800-1745011800@thefortunatesonsband.com
SUMMARY:Joanna's Main Hall
DESCRIPTION:
URL:https://thefortunatesonsband.com/event/joannas-main-hall/
END:VEVENT
BEGIN:VEVENT
DTSTART;TZID=America/Los_Angeles:20250329T200000
DTEND;TZID=America/Los_Angeles:20250329T230000
DTSTAMP:20260424T035045
CREATED:20241113T151958Z
LAST-MODIFIED:20241113T151958Z
UID:400-1743278400-1743289200@thefortunatesonsband.com
SUMMARY:Barn Brew  13 Fort Hill Rd Groton\, CT
DESCRIPTION:The Fortunate Sons bring CCR & the brews!
URL:https://thefortunatesonsband.com/event/barn-brew-13-fort-hill-rd-groton-ct-2/
END:VEVENT
BEGIN:VEVENT
DTSTART;TZID=America/Los_Angeles:20250308T080000
DTEND;TZID=America/Los_Angeles:20250308T230000
DTSTAMP:20260424T035045
CREATED:20250204T181814Z
LAST-MODIFIED:20250204T181814Z
UID:493-1741420800-1741474800@thefortunatesonsband.com
SUMMARY:March 8\, 2025 Main Pub - Manchester CT 8-11
DESCRIPTION:Chooglin at the Pub!
URL:https://thefortunatesonsband.com/event/march-8-2025-main-pub-manchester-ct-8-11/
END:VEVENT
BEGIN:VEVENT
DTSTART;TZID=America/Los_Angeles:20250214T130000
DTEND;TZID=America/Los_Angeles:20250214T133000
DTSTAMP:20260424T035045
CREATED:20241113T151358Z
LAST-MODIFIED:20241113T151358Z
UID:398-1739538000-1739539800@thefortunatesonsband.com
SUMMARY:CRPA Entertainment Showcase- Mortensen Community Center\, 200 Garfield St Newington CT
DESCRIPTION:
URL:https://thefortunatesonsband.com/event/crpa-entertainment-showcase-mortensen-community-center-200-garfield-st-newington-ct/
END:VEVENT
BEGIN:VEVENT
DTSTART;TZID=America/Los_Angeles:20250125T193000
DTEND;TZID=America/Los_Angeles:20250125T223000
DTSTAMP:20260424T035045
CREATED:20241113T150257Z
LAST-MODIFIED:20241113T150751Z
UID:393-1737833400-1737844200@thefortunatesonsband.com
SUMMARY:Yarde Tavern 1658 King St Enfield\, CT
DESCRIPTION:the Fortunate Sons band \nCCR & the Brews!
URL:https://thefortunatesonsband.com/event/barn-brew-13-fort-hill-rd-groton-ct/
END:VEVENT
BEGIN:VEVENT
DTSTART;TZID=America/Los_Angeles:20250124T200000
DTEND;TZID=America/Los_Angeles:20250124T230000
DTSTAMP:20260424T035045
CREATED:20241113T153548Z
LAST-MODIFIED:20241113T190710Z
UID:411-1737748800-1737759600@thefortunatesonsband.com
SUMMARY:Barn Brew Co. 13 Fort Hill Rd\, Groton CT
DESCRIPTION:Fortunate Sons bring CCR to the brews!
URL:https://thefortunatesonsband.com/event/barn-brew-co-13-fort-hill-rd-groton-ct/
END:VEVENT
BEGIN:VEVENT
DTSTART;TZID=America/Los_Angeles:20250118T200000
DTEND;TZID=America/Los_Angeles:20250118T230000
DTSTAMP:20260424T035045
CREATED:20241113T145435Z
LAST-MODIFIED:20241113T145831Z
UID:389-1737230400-1737241200@thefortunatesonsband.com
SUMMARY:The Main Pub 306 Main Street\, Manchester CT
DESCRIPTION:The Fortunate Sons Band \nCCR & The Brews!
URL:https://thefortunatesonsband.com/event/the-main-pub-306-main-street-manchester-ct/
END:VEVENT
BEGIN:VEVENT
DTSTART;TZID=America/New_York:20250103T200000
DTEND;TZID=America/New_York:20250103T230000
DTSTAMP:20260424T035045
CREATED:20241122T174138Z
LAST-MODIFIED:20241122T174233Z
UID:423-1735934400-1735945200@thefortunatesonsband.com
SUMMARY:The Fortunate Sons Band Starting The New Year right @ Sally's!
DESCRIPTION:Black Eyed Sally’s Blues and Bar B-Que \n350 AsylumSt. \nHartford\, CT 06103 \n860-278-7427
URL:https://thefortunatesonsband.com/event/the-fortunate-sons-band-staring-the-new-year-right-sallys/
END:VEVENT
BEGIN:VEVENT
DTSTART;TZID=America/Los_Angeles:20241101T200000
DTEND;TZID=America/Los_Angeles:20241101T230000
DTSTAMP:20260424T035045
CREATED:20241012T183255Z
LAST-MODIFIED:20241013T132754Z
UID:356-1730491200-1730502000@thefortunatesonsband.com
SUMMARY:Fortunate Sons tapping into the Sugar Hollow Tap Room!
DESCRIPTION:our intrepid CCR’s first foray in Fairfield County.Gonna bring ALL the big tunes and important ‘B’Sides! \n66 Sugar Hollow Rd. Danbury\, CT \n 
URL:https://thefortunatesonsband.com/event/66-sugar-hollow-rd-danbury-ct/
END:VEVENT
BEGIN:VEVENT
DTSTART;TZID=America/Los_Angeles:20240917T080000
DTEND;TZID=America/Los_Angeles:20240917T170000
DTSTAMP:20260424T035045
CREATED:20240917T192313Z
LAST-MODIFIED:20240917T194210Z
UID:325-1726560000-1726592400@thefortunatesonsband.com
SUMMARY:Test Event - 123
DESCRIPTION:Testing
URL:https://thefortunatesonsband.com/event/test-event/
LOCATION:Venue test\, Address test
END:VEVENT
END:VCALENDAR